BEGIN:VCALENDAR
VERSION:2.0
PRODID:-//Plone.org//NONSGML plone.app.event//EN
X-WR-TIMEZONE:Europe/Madrid
BEGIN:VEVENT
SUMMARY:Cicle de xerrades per la consulta: conferència-col·loqui
DTSTART;TZID=Europe/Madrid;VALUE=DATE-TIME:20100310T200000
DTEND;TZID=Europe/Madrid;VALUE=DATE-TIME:20100310T210000
DTSTAMP;VALUE=DATE-TIME:20260422T103333Z
UID:dc6ef94e479909d7a9dd0e142faeb354
CREATED;VALUE=DATE-TIME:20100310T000000Z
CATEGORIES:Conferència,Agenda cultural
LOCATION:Centre Cívic El Gorg
ORGANIZER:Plataforma SVM Decideix
COMMENT:Preu: Gratuïta
DESCRIPTION:A càrrec dels escriptors Matthew Tree i Jordi Bilbeny
URL:https://www.svmontalt.cat/document.php?id=3886
END:VEVENT
END:VCALENDAR