BEGIN:VCALENDAR
VERSION:2.0
PRODID:-//Plone.org//NONSGML plone.app.event//EN
X-WR-TIMEZONE:Europe/Madrid
BEGIN:VEVENT
SUMMARY:Round tables en anglès
DTSTART;TZID=Europe/Madrid;VALUE=DATE-TIME:20100326T190000
DTEND;TZID=Europe/Madrid;VALUE=DATE-TIME:20100326T200000
DTSTAMP;VALUE=DATE-TIME:20260422T013309Z
UID:6707f1e3919d0d9eb287cd15714d4736
CREATED;VALUE=DATE-TIME:20100326T000000Z
CATEGORIES:Cursos,Agenda cultural
LOCATION:Biblioteca Municipal La Muntala
ORGANIZER:Biblioteca Municipal La Muntala
COMMENT:Preu: Gratuït
DESCRIPTION:A càrrec d'Anna Estivill
URL:https://www.svmontalt.cat/document.php?id=3887
END:VEVENT
END:VCALENDAR