BEGIN:VCALENDAR
VERSION:2.0
PRODID:-//Plone.org//NONSGML plone.app.event//EN
X-WR-TIMEZONE:Europe/Madrid
BEGIN:VEVENT
SUMMARY:Cicle de cinema juvenil: "Transformers"
DTSTART;TZID=Europe/Madrid;VALUE=DATE-TIME:20100320T183000
DTEND;TZID=Europe/Madrid;VALUE=DATE-TIME:20100320T193000
DTSTAMP;VALUE=DATE-TIME:20260422T055557Z
UID:feaa3d282bc55e84f8d3d00437ef7ecb
CREATED;VALUE=DATE-TIME:20100320T000000Z
CATEGORIES:Cinema,Agenda cultural
LOCATION:Cau Jove
ORGANIZER:Regidoria de Joventut i Cau Jove
URL:https://www.svmontalt.cat/document.php?id=3890
END:VEVENT
END:VCALENDAR