BEGIN:VCALENDAR
VERSION:2.0
PRODID:-//Plone.org//NONSGML plone.app.event//EN
X-WR-TIMEZONE:Europe/Madrid
BEGIN:VEVENT
SUMMARY:Xerrada-col·loqui: "Dona i conciliació familiar"
DTSTART;TZID=Europe/Madrid;VALUE=DATE-TIME:20100308T200000
DTEND;TZID=Europe/Madrid;VALUE=DATE-TIME:20100308T210000
DTSTAMP;VALUE=DATE-TIME:20260420T040852Z
UID:b72728ad91d0e6a76873c6dce5d74db1
CREATED;VALUE=DATE-TIME:20100308T000000Z
CATEGORIES:Conferència,Agenda cultural
LOCATION:Centre Cívic El Gorg
ORGANIZER:PSC Sant Vicenç de Montalt
COMMENT:Preu: Gratuïta
URL:https://www.svmontalt.cat/document.php?id=3904
END:VEVENT
END:VCALENDAR