BEGIN:VCALENDAR
VERSION:2.0
PRODID:-//Plone.org//NONSGML plone.app.event//EN
X-WR-TIMEZONE:Europe/Madrid
BEGIN:VEVENT
SUMMARY:2a Fase del Campionat Comarcal de Gimnàstica Artística
DTSTART;TZID=Europe/Madrid;VALUE=DATE-TIME:20100314T100000
DTEND;TZID=Europe/Madrid;VALUE=DATE-TIME:20100314T110000
DTSTAMP;VALUE=DATE-TIME:20260423T220850Z
UID:d38e1386b29d55ec9d62f68d00d57b39
CREATED;VALUE=DATE-TIME:20100314T000000Z
CATEGORIES:Esports
LOCATION:Pavelló Municipal Toni Sors
ORGANIZER:Regidoria d'Esports en col·laboració amb el Consell Esportiu del Maresme
COMMENT:Preu: Gratuït
URL:https://www.svmontalt.cat/document.php?id=3917
END:VEVENT
END:VCALENDAR