BEGIN:VCALENDAR
VERSION:2.0
PRODID:-//Plone.org//NONSGML plone.app.event//EN
X-WR-TIMEZONE:Europe/Madrid
BEGIN:VEVENT
SUMMARY:Round tables en alemany
DTSTART;TZID=Europe/Madrid;VALUE=DATE-TIME:20100312T190000
DTEND;TZID=Europe/Madrid;VALUE=DATE-TIME:20100312T200000
DTSTAMP;VALUE=DATE-TIME:20260422T001806Z
UID:6b68f0f2afb9e0e8aed993eee1df7396
CREATED;VALUE=DATE-TIME:20100312T000000Z
CATEGORIES:Cursos,Agenda cultural
LOCATION:Centre Cívic El Gorg
ORGANIZER:Biblioteca Municipal La Muntala
COMMENT:Preu: Gratuït
DESCRIPTION:A càrrec d'Steve Holliday
URL:https://www.svmontalt.cat/document.php?id=3919
END:VEVENT
END:VCALENDAR