BEGIN:VCALENDAR
VERSION:2.0
PRODID:-//Plone.org//NONSGML plone.app.event//EN
X-WR-TIMEZONE:Europe/Madrid
BEGIN:VEVENT
SUMMARY:Taller de Customització de roba i complements
DTSTART;TZID=Europe/Madrid;VALUE=DATE-TIME:20100330T180000
DTEND;TZID=Europe/Madrid;VALUE=DATE-TIME:20100330T190000
DTSTAMP;VALUE=DATE-TIME:20260421T230435Z
UID:c0fb2785d6db3f2e19fd7d939c925252
CREATED;VALUE=DATE-TIME:20100330T000000Z
CATEGORIES:Cursos,Agenda cultural
LOCATION:Cau Jove
ORGANIZER:Regidoria de Joventut i Cau Jove
COMMENT:Preu: Gratuït
DESCRIPTION:Cal inscripció prèvia al Cau Jove: 93 791 34 79 (tardes)
URL:https://www.svmontalt.cat/document.php?id=3926
END:VEVENT
END:VCALENDAR