BEGIN:VCALENDAR
VERSION:2.0
PRODID:-//Plone.org//NONSGML plone.app.event//EN
X-WR-TIMEZONE:Europe/Madrid
BEGIN:VEVENT
SUMMARY:Assaig general obert del concert "Stabat Mater"
DTSTART;TZID=Europe/Madrid;VALUE=DATE-TIME:20100326T180000
DTEND;TZID=Europe/Madrid;VALUE=DATE-TIME:20100326T190000
DTSTAMP;VALUE=DATE-TIME:20260420T110639Z
UID:dd1ec760a9ae3df611898a5f93ff471e
CREATED;VALUE=DATE-TIME:20100326T000000Z
CATEGORIES:Música,Agenda cultural
LOCATION:CEIP Sant Jordi
ORGANIZER:Escola Municipal de Músical L'Oriola
COMMENT:Preu: Gratuït
URL:https://www.svmontalt.cat/document.php?id=3939
END:VEVENT
END:VCALENDAR