BEGIN:VCALENDAR
VERSION:2.0
PRODID:-//Plone.org//NONSGML plone.app.event//EN
X-WR-TIMEZONE:Europe/Madrid
BEGIN:VEVENT
SUMMARY:Concert de les classes de cant de L'Oriola i de l'Aula de Música Masfret
DTSTART;TZID=Europe/Madrid;VALUE=DATE-TIME:20100327T180000
DTEND;TZID=Europe/Madrid;VALUE=DATE-TIME:20100327T190000
DTSTAMP;VALUE=DATE-TIME:20260420T110540Z
UID:66578c986a5ec48f0630345d922b14ca
CREATED;VALUE=DATE-TIME:20100327T000000Z
CATEGORIES:Música,Agenda cultural
LOCATION:Església Parroquial Santa Maria de Caldes d´Estrac
ORGANIZER:Escola Municipal de Músical L'Oriola
COMMENT:Preu: Gratuït
URL:https://www.svmontalt.cat/document.php?id=3940
END:VEVENT
END:VCALENDAR