BEGIN:VCALENDAR
VERSION:2.0
PRODID:-//Plone.org//NONSGML plone.app.event//EN
X-WR-TIMEZONE:Europe/Madrid
BEGIN:VEVENT
SUMMARY:Club de feina
DTSTART;TZID=Europe/Madrid;VALUE=DATE-TIME:20100414T100000
DTEND;TZID=Europe/Madrid;VALUE=DATE-TIME:20100414T110000
DTSTAMP;VALUE=DATE-TIME:20260419T204432Z
UID:84ded32cf9bb0ef9311fa92ee3b76ae5
CREATED;VALUE=DATE-TIME:20100414T000000Z
LOCATION:Telecentre
ORGANIZER:Regidoria de Promoció Econòmica
COMMENT:Preu: Gratuït
Durada: De 10 del matí a 1 del migdia
URL:https://www.svmontalt.cat/document.php?id=3951
END:VEVENT
END:VCALENDAR