BEGIN:VCALENDAR
VERSION:2.0
PRODID:-//Plone.org//NONSGML plone.app.event//EN
X-WR-TIMEZONE:Europe/Madrid
BEGIN:VEVENT
SUMMARY:Taula rodona: El dret a decidir
DTSTART;TZID=Europe/Madrid;VALUE=DATE-TIME:20100407T200000
DTEND;TZID=Europe/Madrid;VALUE=DATE-TIME:20100407T210000
DTSTAMP;VALUE=DATE-TIME:20260420T023946Z
UID:8cd9f4e0fded416060f6b418f884a4cf
CREATED;VALUE=DATE-TIME:20100407T000000Z
CATEGORIES:Conferència,Agenda cultural
LOCATION:Centre Cívic El Gorg
ORGANIZER:Plataforma SVM Decideix
COMMENT:Preu: Gratuïta
DESCRIPTION:Cicle de xerrades per la consulta
URL:https://www.svmontalt.cat/document.php?id=3959
END:VEVENT
END:VCALENDAR