BEGIN:VCALENDAR
VERSION:2.0
PRODID:-//Plone.org//NONSGML plone.app.event//EN
X-WR-TIMEZONE:Europe/Madrid
BEGIN:VEVENT
SUMMARY:Round tables en francès
DTSTART;TZID=Europe/Madrid;VALUE=DATE-TIME:20100430T190000
DTEND;TZID=Europe/Madrid;VALUE=DATE-TIME:20100430T200000
DTSTAMP;VALUE=DATE-TIME:20260421T224056Z
UID:3c62ea27a490d9135012b6a325b0c021
CREATED;VALUE=DATE-TIME:20100430T000000Z
CATEGORIES:Cursos,Agenda cultural
LOCATION:Centre Cívic El Gorg
ORGANIZER:Biblioteca Municipal La Muntala
COMMENT:Preu: Gratuït
DESCRIPTION:A càrrec de Corinne de Bailliencourt
URL:https://www.svmontalt.cat/document.php?id=3961
END:VEVENT
END:VCALENDAR