BEGIN:VCALENDAR
VERSION:2.0
PRODID:-//Plone.org//NONSGML plone.app.event//EN
X-WR-TIMEZONE:Europe/Madrid
BEGIN:VEVENT
SUMMARY:Round tables en català
DTSTART;TZID=Europe/Madrid;VALUE=DATE-TIME:20100409T190000
DTEND;TZID=Europe/Madrid;VALUE=DATE-TIME:20100409T200000
DTSTAMP;VALUE=DATE-TIME:20260422T001903Z
UID:ccebe1984f69374fa42408cb82a62f82
CREATED;VALUE=DATE-TIME:20100409T000000Z
CATEGORIES:Cursos,Agenda cultural
LOCATION:Centre Cívic El Gorg
ORGANIZER:Biblioteca Municipal La Muntala
COMMENT:Preu: Gratuït
DESCRIPTION:A càrrec de Montse Macanàs i Pius Morera
URL:https://www.svmontalt.cat/document.php?id=3962
END:VEVENT
END:VCALENDAR