BEGIN:VCALENDAR
VERSION:2.0
PRODID:-//Plone.org//NONSGML plone.app.event//EN
X-WR-TIMEZONE:Europe/Madrid
BEGIN:VEVENT
SUMMARY:Round tables en alemany
DTSTART;TZID=Europe/Madrid;VALUE=DATE-TIME:20100416T190000
DTEND;TZID=Europe/Madrid;VALUE=DATE-TIME:20100416T200000
DTSTAMP;VALUE=DATE-TIME:20260422T001721Z
UID:040baeb4cf11a968a6fd1b2d9169bb1e
CREATED;VALUE=DATE-TIME:20100416T000000Z
CATEGORIES:Cursos,Agenda cultural
LOCATION:Centre Cívic El Gorg
ORGANIZER:Biblioteca Municipal La Muntala
COMMENT:Preu: Gratuït
DESCRIPTION:A càrrec d'Steve Holliday
URL:https://www.svmontalt.cat/document.php?id=3963
END:VEVENT
END:VCALENDAR