BEGIN:VCALENDAR
VERSION:2.0
PRODID:-//Plone.org//NONSGML plone.app.event//EN
X-WR-TIMEZONE:Europe/Madrid
BEGIN:VEVENT
SUMMARY:Curs de Grafits
DTSTART;TZID=Europe/Madrid;VALUE=DATE-TIME:20100417T173000
DTEND;TZID=Europe/Madrid;VALUE=DATE-TIME:20100417T183000
DTSTAMP;VALUE=DATE-TIME:20260421T215647Z
UID:3d3a6f49e78f0114b0fd014e584fefb1
CREATED;VALUE=DATE-TIME:20100417T000000Z
CATEGORIES:Cursos,Agenda cultural
LOCATION:Cau Jove
ORGANIZER:Regidoria de Joventut i Cau Jove
COMMENT:Preu: Gratuït
URL:https://www.svmontalt.cat/document.php?id=3964
END:VEVENT
END:VCALENDAR