BEGIN:VCALENDAR
VERSION:2.0
PRODID:-//Plone.org//NONSGML plone.app.event//EN
X-WR-TIMEZONE:Europe/Madrid
BEGIN:VEVENT
SUMMARY:Curs de Grafits
DTSTART;TZID=Europe/Madrid;VALUE=DATE-TIME:20100508T173000
DTEND;TZID=Europe/Madrid;VALUE=DATE-TIME:20100508T183000
DTSTAMP;VALUE=DATE-TIME:20260421T201632Z
UID:4f35303e73b7a88684362fb07495b975
CREATED;VALUE=DATE-TIME:20100508T000000Z
CATEGORIES:Cursos,Agenda cultural
LOCATION:Cau Jove
ORGANIZER:Regidoria de Joventut i Cau Jove
COMMENT:Preu: Gratuït
URL:https://www.svmontalt.cat/document.php?id=3965
END:VEVENT
END:VCALENDAR