BEGIN:VCALENDAR
VERSION:2.0
PRODID:-//Plone.org//NONSGML plone.app.event//EN
X-WR-TIMEZONE:Europe/Madrid
BEGIN:VEVENT
SUMMARY:Curs de Grafits
DTSTART;TZID=Europe/Madrid;VALUE=DATE-TIME:20100424T173000
DTEND;TZID=Europe/Madrid;VALUE=DATE-TIME:20100424T183000
DTSTAMP;VALUE=DATE-TIME:20260419T160022Z
UID:b2fef5df6aac0fc4f7745883b3407bf4
CREATED;VALUE=DATE-TIME:20100424T000000Z
CATEGORIES:Cursos,Agenda cultural
LOCATION:Cau Jove
ORGANIZER:Regidoria de Joventut i Cau Jove
COMMENT:Preu: Gratuït
URL:https://www.svmontalt.cat/document.php?id=3966
END:VEVENT
END:VCALENDAR