BEGIN:VCALENDAR
VERSION:2.0
PRODID:-//Plone.org//NONSGML plone.app.event//EN
X-WR-TIMEZONE:Europe/Madrid
BEGIN:VEVENT
SUMMARY:Curs d'iniciació a la informàtica
DTSTART;TZID=Europe/Madrid;VALUE=DATE-TIME:20100513T100000
DTEND;TZID=Europe/Madrid;VALUE=DATE-TIME:20100513T110000
DTSTAMP;VALUE=DATE-TIME:20260422T214424Z
UID:75bc362a82eb00d08eefbb48ec6f2c49
CREATED;VALUE=DATE-TIME:20100513T000000Z
CATEGORIES:Cursos,Agenda cultural
LOCATION:Telecentre
ORGANIZER:Regidoria de Noves Tecnologies
COMMENT:Preu: Gratuït
URL:https://www.svmontalt.cat/document.php?id=3989
END:VEVENT
END:VCALENDAR