BEGIN:VCALENDAR
VERSION:2.0
PRODID:-//Plone.org//NONSGML plone.app.event//EN
X-WR-TIMEZONE:Europe/Madrid
BEGIN:VEVENT
SUMMARY:Xerrada-col·loqui: La cuina de Sant Vicenç
DTSTART;TZID=Europe/Madrid;VALUE=DATE-TIME:20100414T180000
DTEND;TZID=Europe/Madrid;VALUE=DATE-TIME:20100414T190000
DTSTAMP;VALUE=DATE-TIME:20260420T034547Z
UID:007b25eeeea12d828c35196ae361592e
CREATED;VALUE=DATE-TIME:20100414T000000Z
CATEGORIES:Mostra,Agenda cultural
LOCATION:Casal de la Gent Gran Els Xurravins
ORGANIZER:Associació de Gent Gran Els Xurravins
COMMENT:Preu: Gratuït
URL:https://www.svmontalt.cat/document.php?id=3994
END:VEVENT
END:VCALENDAR