BEGIN:VCALENDAR
VERSION:2.0
PRODID:-//Plone.org//NONSGML plone.app.event//EN
X-WR-TIMEZONE:Europe/Madrid
BEGIN:VEVENT
SUMMARY:Exhibició de Música Rap
DTSTART;TZID=Europe/Madrid;VALUE=DATE-TIME:20100417T183000
DTEND;TZID=Europe/Madrid;VALUE=DATE-TIME:20100417T193000
DTSTAMP;VALUE=DATE-TIME:20260421T215439Z
UID:619c710565c65b0bb23d9a910cd8b3b1
CREATED;VALUE=DATE-TIME:20100417T000000Z
CATEGORIES:Música,Agenda cultural
LOCATION:Cau Jove
ORGANIZER:Regidoria de Joventut i Cau Jove
COMMENT:Preu: Gratuït
URL:https://www.svmontalt.cat/document.php?id=3998
END:VEVENT
END:VCALENDAR