BEGIN:VCALENDAR
VERSION:2.0
PRODID:-//Plone.org//NONSGML plone.app.event//EN
X-WR-TIMEZONE:Europe/Madrid
BEGIN:VEVENT
SUMMARY:Concert de piano, a càrrec de Quim Cornudella
DTSTART;TZID=Europe/Madrid;VALUE=DATE-TIME:20100422T200000
DTEND;TZID=Europe/Madrid;VALUE=DATE-TIME:20100422T210000
DTSTAMP;VALUE=DATE-TIME:20260420T135818Z
UID:aa7ba141e1b59a5ed348ffbcacf67137
CREATED;VALUE=DATE-TIME:20100422T000000Z
CATEGORIES:Música,Agenda cultural
LOCATION:Auditori del Casal de Cultura (Plaça del Poble, 6)
ORGANIZER:Escola Municipal de Música L'Oriola
COMMENT:Preu: Gratuït
URL:https://www.svmontalt.cat/document.php?id=4001
END:VEVENT
END:VCALENDAR