BEGIN:VCALENDAR
VERSION:2.0
PRODID:-//Plone.org//NONSGML plone.app.event//EN
X-WR-TIMEZONE:Europe/Madrid
BEGIN:VEVENT
SUMMARY:Sessió d'Orientació Acadèmica i professional
DTSTART;TZID=Europe/Madrid;VALUE=DATE-TIME:20100428T170000
DTEND;TZID=Europe/Madrid;VALUE=DATE-TIME:20100428T180000
DTSTAMP;VALUE=DATE-TIME:20260421T201602Z
UID:14575e4e1e7f0ca4089b62aeb8b6871d
CREATED;VALUE=DATE-TIME:20100428T000000Z
LOCATION:Cau Jove
ORGANIZER:Regidoria de Joventut i Espai Jove "El Cau"
COMMENT:Preu: Gratuït
DESCRIPTION:Cal reserva prèvia d'hora al 93 791 34 79 (tardes)
URL:https://www.svmontalt.cat/document.php?id=4042
END:VEVENT
END:VCALENDAR