BEGIN:VCALENDAR
VERSION:2.0
PRODID:-//Plone.org//NONSGML plone.app.event//EN
X-WR-TIMEZONE:Europe/Madrid
BEGIN:VEVENT
SUMMARY:Sessió d'Orientació Acadèmica i professional
DTSTART;TZID=Europe/Madrid;VALUE=DATE-TIME:20100430T170000
DTEND;TZID=Europe/Madrid;VALUE=DATE-TIME:20100430T180000
DTSTAMP;VALUE=DATE-TIME:20260421T201616Z
UID:aeebef38914e442d305e8f4ca1fc6bb0
CREATED;VALUE=DATE-TIME:20100430T000000Z
LOCATION:Cau Jove
ORGANIZER:Regidoria de Joventut i Espai Jove "El Cau"
COMMENT:Preu: Gratuït
DESCRIPTION:Cal reserva prèvia d'hora al 93 791 34 79 (tardes)
URL:https://www.svmontalt.cat/document.php?id=4043
END:VEVENT
END:VCALENDAR