BEGIN:VCALENDAR
VERSION:2.0
PRODID:-//Plone.org//NONSGML plone.app.event//EN
X-WR-TIMEZONE:Europe/Madrid
BEGIN:VEVENT
SUMMARY:Anem al Teatre Coliseum a veure "El llac dels cignes"
DTSTART;TZID=Europe/Madrid;VALUE=DATE-TIME:20100430T190000
DTEND;TZID=Europe/Madrid;VALUE=DATE-TIME:20100430T200000
DTSTAMP;VALUE=DATE-TIME:20260423T102656Z
UID:d17629a6e24f3ff58d21c8de5cf732e0
CREATED;VALUE=DATE-TIME:20100430T000000Z
CATEGORIES:Dansa,Agenda cultural
LOCATION:Sortida des de les portes del Centre Cívic El Gorg
ORGANIZER:Associació de Gent Gran Els Xurravins
COMMENT:Preu: 35 euros: entrada i servei de bus
URL:https://www.svmontalt.cat/document.php?id=4044
END:VEVENT
END:VCALENDAR