BEGIN:VCALENDAR
VERSION:2.0
PRODID:-//Plone.org//NONSGML plone.app.event//EN
X-WR-TIMEZONE:Europe/Madrid
BEGIN:VEVENT
SUMMARY:Recital de piano d'Andreu Gallén
DTSTART;TZID=Europe/Madrid;VALUE=DATE-TIME:20100501T220000
DTEND;TZID=Europe/Madrid;VALUE=DATE-TIME:20100501T230000
DTSTAMP;VALUE=DATE-TIME:20260420T112058Z
UID:991c400ce7c887f8341ed9fd3bb12065
CREATED;VALUE=DATE-TIME:20100501T000000Z
CATEGORIES:Música,Agenda cultural
LOCATION:Església de Sant Vicenç
ORGANIZER:Associació de Gent Gran Els Xurravins; hi col·laboren: Ajuntament i Parròquia de Sant Vicenç
URL:https://www.svmontalt.cat/document.php?id=4062
END:VEVENT
END:VCALENDAR