BEGIN:VCALENDAR
VERSION:2.0
PRODID:-//Plone.org//NONSGML plone.app.event//EN
X-WR-TIMEZONE:Europe/Madrid
BEGIN:VEVENT
SUMMARY:Round tables en anglès
DTSTART;TZID=Europe/Madrid;VALUE=DATE-TIME:20100521T190000
DTEND;TZID=Europe/Madrid;VALUE=DATE-TIME:20100521T200000
DTSTAMP;VALUE=DATE-TIME:20260422T001428Z
UID:c1ebe9bf7714a737eaa3d3c054188e03
CREATED;VALUE=DATE-TIME:20100521T000000Z
CATEGORIES:Cursos,Agenda cultural
LOCATION:Centre Cívic El Gorg
ORGANIZER:Biblioteca Municipal La Muntala
COMMENT:Preu: Gratuït
DESCRIPTION:A càrrec d'Anna Estivill
URL:https://www.svmontalt.cat/document.php?id=4077
END:VEVENT
END:VCALENDAR