BEGIN:VCALENDAR
VERSION:2.0
PRODID:-//Plone.org//NONSGML plone.app.event//EN
X-WR-TIMEZONE:Europe/Madrid
BEGIN:VEVENT
SUMMARY:Round tables en alemany
DTSTART;TZID=Europe/Madrid;VALUE=DATE-TIME:20100514T190000
DTEND;TZID=Europe/Madrid;VALUE=DATE-TIME:20100514T200000
DTSTAMP;VALUE=DATE-TIME:20260420T191125Z
UID:5b8b69d74aad6f7f4f41be631cc6fd8b
CREATED;VALUE=DATE-TIME:20100514T000000Z
CATEGORIES:Cursos,Agenda cultural
LOCATION:Biblioteca Municipal La Muntala
ORGANIZER:Biblioteca Municipal La Muntala
COMMENT:Preu: Gratuït
DESCRIPTION:A càrrec d'Steve Holliday
URL:https://www.svmontalt.cat/document.php?id=4083
END:VEVENT
END:VCALENDAR