BEGIN:VCALENDAR
VERSION:2.0
PRODID:-//Plone.org//NONSGML plone.app.event//EN
X-WR-TIMEZONE:Europe/Madrid
BEGIN:VEVENT
SUMMARY:Excursió de Núria a Queralbs
DTSTART;TZID=Europe/Madrid;VALUE=DATE-TIME:20100606T080000
DTEND;TZID=Europe/Madrid;VALUE=DATE-TIME:20100606T090000
DTSTAMP;VALUE=DATE-TIME:20260423T141517Z
UID:ff9ae6377690e0d9ad81a0f2050018c1
CREATED;VALUE=DATE-TIME:20100606T000000Z
CATEGORIES:Esports
LOCATION:Sortida des del pàrquing del c/ Ginesta
ORGANIZER:Associació Excursionista MontalTrek
URL:https://www.svmontalt.cat/document.php?id=4087
END:VEVENT
END:VCALENDAR