BEGIN:VCALENDAR
VERSION:2.0
PRODID:-//Plone.org//NONSGML plone.app.event//EN
X-WR-TIMEZONE:Europe/Madrid
BEGIN:VEVENT
SUMMARY:I Jornada: "El benestar infantil: un compromís de tots i totes"
DTSTART;TZID=Europe/Madrid;VALUE=DATE-TIME:20100519T093000
DTEND;TZID=Europe/Madrid;VALUE=DATE-TIME:20100519T103000
DTSTAMP;VALUE=DATE-TIME:20260422T104300Z
UID:e3b6974047889aefea5be425ccee5aa2
CREATED;VALUE=DATE-TIME:20100519T000000Z
CATEGORIES:Conferència,Agenda cultural
LOCATION:Centre Cívic El Gorg
ORGANIZER:Regidoria de Benestar Social
COMMENT:Preu: Inscripció: 10 euros
Durada: De 9.30 a 14.00h
DESCRIPTION:A càrrec del Dr. Jorge Barudy, neuropsiquiatre, psiquiatre infantil i terapeuta familiar
URL:https://www.svmontalt.cat/document.php?id=4089
END:VEVENT
END:VCALENDAR