BEGIN:VCALENDAR
VERSION:2.0
PRODID:-//Plone.org//NONSGML plone.app.event//EN
X-WR-TIMEZONE:Europe/Madrid
BEGIN:VEVENT
SUMMARY:XI Moments Musicals a les Escoles
DTSTART;TZID=Europe/Madrid;VALUE=DATE-TIME:20100520T190000
DTEND;TZID=Europe/Madrid;VALUE=DATE-TIME:20100520T200000
DTSTAMP;VALUE=DATE-TIME:20260420T123629Z
UID:1d8794bf77be144944457eae3490acf3
CREATED;VALUE=DATE-TIME:20100520T000000Z
CATEGORIES:Música,Agenda cultural
LOCATION:CEIP Sant Jordi
ORGANIZER:Escola Municipal de Música L'Oriola
COMMENT:Preu: Gratuït
URL:https://www.svmontalt.cat/document.php?id=4092
END:VEVENT
END:VCALENDAR