BEGIN:VCALENDAR
VERSION:2.0
PRODID:-//Plone.org//NONSGML plone.app.event//EN
X-WR-TIMEZONE:Europe/Madrid
BEGIN:VEVENT
SUMMARY:I Torneig Playstation C.F. Santvicentí
DTSTART;TZID=Europe/Madrid;VALUE=DATE-TIME:20100529T180000
DTEND;TZID=Europe/Madrid;VALUE=DATE-TIME:20100529T190000
DTSTAMP;VALUE=DATE-TIME:20260420T101441Z
UID:aa514c29ef8766521e226bc3b1a91b5f
CREATED;VALUE=DATE-TIME:20100529T000000Z
LOCATION:Camp Municipal de Futbol
ORGANIZER:C.F. Santvicentí
COMMENT:Preu: Inscripció al torneig: 5 euros / jugador
DESCRIPTION:Finals de tots els grups
URL:https://www.svmontalt.cat/document.php?id=4103
END:VEVENT
END:VCALENDAR