BEGIN:VCALENDAR
VERSION:2.0
PRODID:-//Plone.org//NONSGML plone.app.event//EN
X-WR-TIMEZONE:Europe/Madrid
BEGIN:VEVENT
SUMMARY:Round tables en francès
DTSTART;TZID=Europe/Madrid;VALUE=DATE-TIME:20100611T190000
DTEND;TZID=Europe/Madrid;VALUE=DATE-TIME:20100611T200000
DTSTAMP;VALUE=DATE-TIME:20260421T223942Z
UID:dd0381a1ef474146d9a90c4909b1b1f8
CREATED;VALUE=DATE-TIME:20100611T000000Z
CATEGORIES:Cursos,Agenda cultural
LOCATION:Centre Cívic El Gorg
ORGANIZER:Biblioteca Municipal La Muntala
COMMENT:Preu: Gratuït
DESCRIPTION:A càrrec de Corinne de Bailliencourt
URL:https://www.svmontalt.cat/document.php?id=4165
END:VEVENT
END:VCALENDAR