BEGIN:VCALENDAR
VERSION:2.0
PRODID:-//Plone.org//NONSGML plone.app.event//EN
X-WR-TIMEZONE:Europe/Madrid
BEGIN:VEVENT
SUMMARY:Sortida de la Colla de Geganters a Montserrat
DTSTART;TZID=Europe/Madrid;VALUE=DATE-TIME:20100606T100000
DTEND;TZID=Europe/Madrid;VALUE=DATE-TIME:20100606T110000
DTSTAMP;VALUE=DATE-TIME:20260423T114147Z
UID:55ef3ee1a8e0cd6dc5dd46e449f4a146
CREATED;VALUE=DATE-TIME:20100606T000000Z
LOCATION:Montserrat
ORGANIZER:Colla de Geganters de Sant Vicenç de Montalt
URL:https://www.svmontalt.cat/document.php?id=4169
END:VEVENT
END:VCALENDAR