BEGIN:VCALENDAR
VERSION:2.0
PRODID:-//Plone.org//NONSGML plone.app.event//EN
X-WR-TIMEZONE:Europe/Madrid
BEGIN:VEVENT
SUMMARY:Sortida de la Colla de Geganters a Sant Joan Despí
DTSTART;TZID=Europe/Madrid;VALUE=DATE-TIME:20100626T100000
DTEND;TZID=Europe/Madrid;VALUE=DATE-TIME:20100626T110000
DTSTAMP;VALUE=DATE-TIME:20260419T145239Z
UID:21179d00048e9e8edb7490eb3666a4db
CREATED;VALUE=DATE-TIME:20100626T000000Z
LOCATION:Sant Joan Despí
ORGANIZER:Colla de Geganters de Sant Vicenç de Montalt
URL:https://www.svmontalt.cat/document.php?id=4170
END:VEVENT
END:VCALENDAR