BEGIN:VCALENDAR
VERSION:2.0
PRODID:-//Plone.org//NONSGML plone.app.event//EN
X-WR-TIMEZONE:Europe/Madrid
BEGIN:VEVENT
SUMMARY:Sortida a Water World Lloret
DTSTART;TZID=Europe/Madrid;VALUE=DATE-TIME:20100630T090000
DTEND;TZID=Europe/Madrid;VALUE=DATE-TIME:20100630T100000
DTSTAMP;VALUE=DATE-TIME:20260421T215719Z
UID:68ea077486da3be168ef99c678db1ee6
CREATED;VALUE=DATE-TIME:20100630T000000Z
LOCATION:Sortida des de l'Av. Verge de Montserrat
ORGANIZER:Regidoria de Joventut i Espai Jove "El Cau"
COMMENT:Durada: Tot el dia
URL:https://www.svmontalt.cat/document.php?id=4176
END:VEVENT
END:VCALENDAR