BEGIN:VCALENDAR
VERSION:2.0
PRODID:-//Plone.org//NONSGML plone.app.event//EN
X-WR-TIMEZONE:Europe/Madrid
BEGIN:VEVENT
SUMMARY:Audicions musicals
DTSTART;TZID=Europe/Madrid;VALUE=DATE-TIME:20100618T173000
DTEND;TZID=Europe/Madrid;VALUE=DATE-TIME:20100618T183000
DTSTAMP;VALUE=DATE-TIME:20260420T110414Z
UID:86bd198bc2876977f325d7614e6256ae
CREATED;VALUE=DATE-TIME:20100618T000000Z
CATEGORIES:Música,Agenda cultural
LOCATION:Auditoria del Casal de Cultura - Plaça del Poble, 6
ORGANIZER:Escola Municipal de Música L'Oriola
COMMENT:Preu: Gratuït
URL:https://www.svmontalt.cat/document.php?id=4178
END:VEVENT
END:VCALENDAR