BEGIN:VCALENDAR
VERSION:2.0
PRODID:-//Plone.org//NONSGML plone.app.event//EN
X-WR-TIMEZONE:Europe/Madrid
BEGIN:VEVENT
SUMMARY:Concert de fi de curs de L'Oriola
DTSTART;TZID=Europe/Madrid;VALUE=DATE-TIME:20100619T173000
DTEND;TZID=Europe/Madrid;VALUE=DATE-TIME:20100619T183000
DTSTAMP;VALUE=DATE-TIME:20260420T152232Z
UID:de85f51ef07b05612e8236c92cfd6bc1
CREATED;VALUE=DATE-TIME:20100619T000000Z
CATEGORIES:Música,Agenda cultural
LOCATION:Centre Cívic El Gorg - Riera del Gorg, s/n
ORGANIZER:Escola Municipal de Música L'Oriola
COMMENT:Preu: Gratuït
URL:https://www.svmontalt.cat/document.php?id=4179
END:VEVENT
END:VCALENDAR