BEGIN:VCALENDAR
VERSION:2.0
PRODID:-//Plone.org//NONSGML plone.app.event//EN
X-WR-TIMEZONE:Europe/Madrid
BEGIN:VEVENT
SUMMARY:Concert de l'Aula de Cant de L'Oriola
DTSTART;TZID=Europe/Madrid;VALUE=DATE-TIME:20100621T173000
DTEND;TZID=Europe/Madrid;VALUE=DATE-TIME:20100621T183000
DTSTAMP;VALUE=DATE-TIME:20260420T110710Z
UID:d44dcdb759009aa21a5db9b5dcda7b75
CREATED;VALUE=DATE-TIME:20100621T000000Z
CATEGORIES:Música,Agenda cultural
LOCATION:Auditori del Casal de Cultura - C/ Plaça del Poble, 6
ORGANIZER:Escola Municipal de Música L'Oriola
COMMENT:Preu: Gratuït
URL:https://www.svmontalt.cat/document.php?id=4180
END:VEVENT
END:VCALENDAR