BEGIN:VCALENDAR
VERSION:2.0
PRODID:-//Plone.org//NONSGML plone.app.event//EN
X-WR-TIMEZONE:Europe/Madrid
BEGIN:VEVENT
SUMMARY:Festival de cloenda de les activitats esportives extraescolars
DTSTART;TZID=Europe/Madrid;VALUE=DATE-TIME:20100619T201500
DTEND;TZID=Europe/Madrid;VALUE=DATE-TIME:20100619T211500
DTSTAMP;VALUE=DATE-TIME:20260423T221556Z
UID:7a8eea0dad1fa190d006f7872ed2021e
CREATED;VALUE=DATE-TIME:20100619T000000Z
CATEGORIES:Esports
LOCATION:Pavelló Municipal Toni Sors - Avinguda Toni Sors, s/n
ORGANIZER:Regidoria d'Esports
COMMENT:Preu: Gratuït
URL:https://www.svmontalt.cat/document.php?id=4196
END:VEVENT
END:VCALENDAR