BEGIN:VCALENDAR
VERSION:2.0
PRODID:-//Plone.org//NONSGML plone.app.event//EN
X-WR-TIMEZONE:Europe/Madrid
BEGIN:VEVENT
SUMMARY:Cloenda dels tallers "La cuina de Sant Vicenç"
DTSTART;TZID=Europe/Madrid;VALUE=DATE-TIME:20100709T180000
DTEND;TZID=Europe/Madrid;VALUE=DATE-TIME:20100709T190000
DTSTAMP;VALUE=DATE-TIME:20260419T142943Z
UID:29192b322a1e645a538ed20c0dc19fc7
CREATED;VALUE=DATE-TIME:20100709T000000Z
CATEGORIES:Mostra,Agenda cultural
LOCATION:Casal de la Gent Gran Els Xurravins
ORGANIZER:Associació de Gent Gran Els Xurravins
COMMENT:Preu: Gratuït
DESCRIPTION:Setmana de la Gent Gran
URL:https://www.svmontalt.cat/document.php?id=4227
END:VEVENT
END:VCALENDAR