BEGIN:VCALENDAR
VERSION:2.0
PRODID:-//Plone.org//NONSGML plone.app.event//EN
X-WR-TIMEZONE:Europe/Madrid
BEGIN:VEVENT
SUMMARY:L'Orfeó Parroquial El Delme i la Societat Coral La Floresta, en concert
DTSTART;TZID=Europe/Madrid;VALUE=DATE-TIME:20100703T213000
DTEND;TZID=Europe/Madrid;VALUE=DATE-TIME:20100703T223000
DTSTAMP;VALUE=DATE-TIME:20260420T152534Z
UID:9a9cf0db14292a0baac6db38bbe34657
CREATED;VALUE=DATE-TIME:20100703T000000Z
CATEGORIES:Música,Agenda cultural
LOCATION:Església de Sant Vicenç
ORGANIZER:Orfeó Parroquial El Delme; hi col·labora: Parròquia de Sant Vicenç
COMMENT:Preu: Gratuït
URL:https://www.svmontalt.cat/document.php?id=4234
END:VEVENT
END:VCALENDAR