BEGIN:VCALENDAR
VERSION:2.0
PRODID:-//Plone.org//NONSGML plone.app.event//EN
X-WR-TIMEZONE:Europe/Madrid
BEGIN:VEVENT
SUMMARY:Round tables en francès
DTSTART;TZID=Europe/Madrid;VALUE=DATE-TIME:20100709T190000
DTEND;TZID=Europe/Madrid;VALUE=DATE-TIME:20100709T200000
DTSTAMP;VALUE=DATE-TIME:20260419T155844Z
UID:40a27c5b21a6a4ac845df7d4d48261ce
CREATED;VALUE=DATE-TIME:20100709T000000Z
CATEGORIES:Cursos,Agenda cultural
LOCATION:Centre Cívic El Gorg
ORGANIZER:Biblioteca Municipal La Muntala
COMMENT:Preu: Gratuït
DESCRIPTION:A càrrec de Corinne de Bailliencourt
URL:https://www.svmontalt.cat/document.php?id=4247
END:VEVENT
END:VCALENDAR