BEGIN:VCALENDAR
VERSION:2.0
PRODID:-//Plone.org//NONSGML plone.app.event//EN
X-WR-TIMEZONE:Europe/Madrid
BEGIN:VEVENT
SUMMARY:"Cazadores de dragones", una entretinguda pel·lícula per gaudir del cinema a la fresca
DTSTART;TZID=Europe/Madrid;VALUE=DATE-TIME:20100811T220000
DTEND;TZID=Europe/Madrid;VALUE=DATE-TIME:20100811T230000
DTSTAMP;VALUE=DATE-TIME:20260419T235907Z
UID:88983cb7efb36c498ea6eb0913a00a4b
CREATED;VALUE=DATE-TIME:20100811T000000Z
CATEGORIES:Cinema,Agenda cultural
LOCATION:Avinguda Toni Sors - Avinguda Toni Sors, s/n
ORGANIZER:Regidoria de Culltura
COMMENT:Preu: Gratuït
URL:https://www.svmontalt.cat/document.php?id=4293
END:VEVENT
END:VCALENDAR