BEGIN:VCALENDAR
VERSION:2.0
PRODID:-//Plone.org//NONSGML plone.app.event//EN
X-WR-TIMEZONE:Europe/Madrid
BEGIN:VEVENT
SUMMARY:Trofeu Petanca PSC Sant Vicenç de Montalt
DTSTART;TZID=Europe/Madrid;VALUE=DATE-TIME:20100905T173000
DTEND;TZID=Europe/Madrid;VALUE=DATE-TIME:20100905T183000
DTSTAMP;VALUE=DATE-TIME:20260423T141501Z
UID:874b377aad197dc3a75bb9b6a5a2cf3d
CREATED;VALUE=DATE-TIME:20100905T000000Z
LOCATION:Pistes Municipals de Petanca
ORGANIZER:Club de Petanca de Sant Vicenç amb el patrocini del PSC
COMMENT:Preu: Socis, gratuït; no socis, 4 euros
URL:https://www.svmontalt.cat/document.php?id=4355
END:VEVENT
END:VCALENDAR