BEGIN:VCALENDAR
VERSION:2.0
PRODID:-//Plone.org//NONSGML plone.app.event//EN
X-WR-TIMEZONE:Europe/Madrid
BEGIN:VEVENT
SUMMARY:Round Table en francès
DTSTART;TZID=Europe/Madrid;VALUE=DATE-TIME:20101015T190000
DTEND;TZID=Europe/Madrid;VALUE=DATE-TIME:20101015T200000
DTSTAMP;VALUE=DATE-TIME:20260422T074149Z
UID:3da17a2da3656f54060fef64a66723a4
CREATED;VALUE=DATE-TIME:20101015T000000Z
LOCATION:Centre Cívic El Gorg - Riera del Gorg, s/n
ORGANIZER:Biblioteca Municipal La Muntala
COMMENT:Preu: Gratuït
DESCRIPTION:A càrrec de Corinne de Bailliencourt
URL:https://www.svmontalt.cat/document.php?id=4412
END:VEVENT
END:VCALENDAR