BEGIN:VCALENDAR
VERSION:2.0
PRODID:-//Plone.org//NONSGML plone.app.event//EN
X-WR-TIMEZONE:Europe/Madrid
BEGIN:VEVENT
SUMMARY:Xerrada: "Hàbits del son de la gent gran"
DTSTART;TZID=Europe/Madrid;VALUE=DATE-TIME:20101105T170000
DTEND;TZID=Europe/Madrid;VALUE=DATE-TIME:20101105T180000
DTSTAMP;VALUE=DATE-TIME:20260420T040739Z
UID:1b10b8029ee2636c063ae208f7d10015
CREATED;VALUE=DATE-TIME:20101105T000000Z
CATEGORIES:Conferència,Agenda cultural
LOCATION:Casal de la Gent Gran Els Xurravins
ORGANIZER:Associació de Gent Gran Els Xurravins amb el suport de Fundació "la Caixa"
COMMENT:Preu: Gratuït
DESCRIPTION:Amb l'assessorament del Dr. Eduard Estivill
URL:https://www.svmontalt.cat/document.php?id=4441
END:VEVENT
END:VCALENDAR