BEGIN:VCALENDAR
VERSION:2.0
PRODID:-//Plone.org//NONSGML plone.app.event//EN
X-WR-TIMEZONE:Europe/Madrid
BEGIN:VEVENT
SUMMARY:Debat polític: "Camí cap a la independència"
DTSTART;TZID=Europe/Madrid;VALUE=DATE-TIME:20101103T190000
DTEND;TZID=Europe/Madrid;VALUE=DATE-TIME:20101103T200000
DTSTAMP;VALUE=DATE-TIME:20260420T040806Z
UID:cb867104d44568239a9b5cb5d2e81ed4
CREATED;VALUE=DATE-TIME:20101103T000000Z
CATEGORIES:Conferència,Agenda cultural
LOCATION:Centre Cívic El Gorg - Riera del Gorg, s/n
ORGANIZER:Sant Vicenç decideix
URL:https://www.svmontalt.cat/document.php?id=4474
END:VEVENT
END:VCALENDAR