BEGIN:VCALENDAR
VERSION:2.0
PRODID:-//Plone.org//NONSGML plone.app.event//EN
X-WR-TIMEZONE:Europe/Madrid
BEGIN:VEVENT
SUMMARY:Round Table en francès
DTSTART;TZID=Europe/Madrid;VALUE=DATE-TIME:20101105T190000
DTEND;TZID=Europe/Madrid;VALUE=DATE-TIME:20101105T200000
DTSTAMP;VALUE=DATE-TIME:20260422T001114Z
UID:2dd6bcab532aa8b4cfe4e741b36ed5a9
CREATED;VALUE=DATE-TIME:20101105T000000Z
LOCATION:Centre Cívic El Gorg - Riera del Gorg, s/n
ORGANIZER:Biblioteca Municipal La Muntala
COMMENT:Preu: Gratuït
DESCRIPTION:A càrrec de Corinne de Bailliencourt
URL:https://www.svmontalt.cat/document.php?id=4476
END:VEVENT
END:VCALENDAR