BEGIN:VCALENDAR
VERSION:2.0
PRODID:-//Plone.org//NONSGML plone.app.event//EN
X-WR-TIMEZONE:Europe/Madrid
BEGIN:VEVENT
SUMMARY:Conte de Nadal: &#147;Un plat pla ple de poesia està&#148;
DTSTART;TZID=Europe/Madrid;VALUE=DATE-TIME:20101223T173000
DTEND;TZID=Europe/Madrid;VALUE=DATE-TIME:20101223T183000
DTSTAMP;VALUE=DATE-TIME:20260426T023202Z
UID:62542272dae55778a44a4862052d0ca4
CREATED;VALUE=DATE-TIME:20101223T000000Z
CATEGORIES:Literatura,Agenda cultural
LOCATION:Centre Cívic El Gorg - Riera del Gorg, s/n
ORGANIZER:Biblioteca Municipal La Muntala
COMMENT:Preu: Gratuït
DESCRIPTION:A càrrec de Tantàgora
URL:https://www.svmontalt.cat/document.php?id=4504
END:VEVENT
END:VCALENDAR