BEGIN:VCALENDAR
VERSION:2.0
PRODID:-//Plone.org//NONSGML plone.app.event//EN
X-WR-TIMEZONE:Europe/Madrid
BEGIN:VEVENT
SUMMARY:Round Table en català
DTSTART;TZID=Europe/Madrid;VALUE=DATE-TIME:20101119T190000
DTEND;TZID=Europe/Madrid;VALUE=DATE-TIME:20101119T200000
DTSTAMP;VALUE=DATE-TIME:20260421T224139Z
UID:a4f82f2831eaf147bd86538bfce54c4f
CREATED;VALUE=DATE-TIME:20101119T000000Z
LOCATION:Centre Cívic El Gorg - Riera del Gorg, s/n
ORGANIZER:Biblioteca Municipal La Muntala
COMMENT:Preu: Gratuït
DESCRIPTION:A càrrec de Montse Macanàs i Pius Morera
URL:https://www.svmontalt.cat/document.php?id=4508
END:VEVENT
END:VCALENDAR